BEGIN:VCALENDAR
VERSION:2.0
PRODID:-//wp-events-plugin.com//6.4.7.3//EN
TZID:Europe/Berlin
X-WR-TIMEZONE:Europe/Berlin
BEGIN:VEVENT
UID:32@isys-bw.de
DTSTART;TZID=Europe/Berlin;VALUE=DATE:20180314
DTEND;TZID=Europe/Berlin;VALUE=DATE:20180318
DTSTAMP:20180313T132939Z
URL:https://www.isys-bw.de/veranstaltung/einfuehrungsseminar-systemische-t
 herapie-und-beratung-teil-1-bera18-1/
SUMMARY:Einführungsseminar „Systemische Therapie und Beratung (Teil 1)
 ” BerA18-1
DESCRIPTION:mit Frieder Pfrommer und Birgit Peter: Grundlagen der Systemisc
 hen Beratung und Therapie – Kennenlernen und Entscheidung.\nEs gibt noch
  2 freie Plätze! (Stand: 13.03.2018)
CATEGORIES:Beratung und Therapie,Einführungstag
LOCATION:ISYS Seminarhaus\, Am Kirchenköpfle 3\, Hechingen-Schlatt\, Baden
 -Württemberg\, 72379\, Deutschland
GEO:48.345214;9.028936
X-APPLE-STRUCTURED-LOCATION;VALUE=URI;X-ADDRESS=Am Kirchenköpfle 3\, Hechi
 ngen-Schlatt\, Baden-Württemberg\, 72379\, Deutschland;X-APPLE-RADIUS=100
 ;X-TITLE=ISYS Seminarhaus:geo:48.345214,9.028936
END:VEVENT
BEGIN:VTIMEZONE
TZID:Europe/Berlin
X-LIC-LOCATION:Europe/Berlin
BEGIN:STANDARD
DTSTART:20171029T020000
TZOFFSETFROM:+0200
TZOFFSETTO:+0100
TZNAME:CET
END:STANDARD
END:VTIMEZONE
END:VCALENDAR